{"text_format":"2","workbook":"xlsx","n_sheets":1,"sheets":["Sheet1"],"not_rendered":{"charts":0,"images":0,"macros":0,"external_links":1,"defined_names":1,"comments":0,"pivot_tables":0},"unopened":[],"bounds":{"document_bytes":16777216,"sheet_cells":100000,"run_cost":"one","rows_first":2000,"rows_last":500,"rows_between":2000,"halvings":0,"cell_chars":16384,"cell_head_chars":4096},"cells_cut":0,"cells_raw":0,"read":"whole","date_system":"1900"}

{"sheet":"Sheet1","index":0,"n_rows":42,"n_cols":8,"rows_kept":42,"cut":false,"hidden":false,"merged":[]}
["과목명","수강번호","개설\n학부","학수구분","담당\n교수","영어강의","수업방식","시간표 (대면 수업이 아닐 경우 강의실은 고려하지 않으시면 됩니다.)"]
["고전문학입문","J037","국어국문학과","전선","조하연",null,"동영상+실시간",{"$f":"VLOOKUP(B2:B42,[1]Sheet1!$D$2:$H$62,5,0)","v":"화D(다107) 목C(다107)"}]
["국어사","J036","국어국문학과","전선","김동은",null,"동영상+실시간",{"$f":"VLOOKUP(B3:B43,[1]Sheet1!$D$2:$H$62,5,0)","v":"화E(다107) 금E(다107)"}]
["대중가요론","J035","국어국문학과","전선","곽명숙",null,"동영상+실시간",{"$f":"VLOOKUP(B4:B44,[1]Sheet1!$D$2:$H$62,5,0)","v":"화F(다107) 목E(다107)"}]
["방언과 사회(캡스톤디자인)","J034","국어국문학과","전선","이상신",null,"동영상+실시간",{"$f":"VLOOKUP(B5:B45,[1]Sheet1!$D$2:$H$62,5,0)","v":"수D(다107) 금D(다107)"}]
["의사소통의 이론과 실제","J033","국어국문학과","전선","김동은",null,"동영상+실시간",{"$f":"VLOOKUP(B6:B46,[1]Sheet1!$D$2:$H$62,5,0)","v":"화C(다107) 금C(다107)"}]
["한국고전소설론","J028","국어국문학과","전선","이후남",null,"동영상+부분대면",{"$f":"VLOOKUP(B7:B47,[1]Sheet1!$D$2:$H$62,5,0)","v":"화1(다107) 화2(다107) 화3(다107)"}]
["한국문학과 문화콘텐츠","J027","국어국문학과","전선","장두영",null,"동영상+실시간",{"$f":"VLOOKUP(B8:B48,[1]Sheet1!$D$2:$H$62,5,0)","v":"월D(다107) 목D(다107)"}]
["한글과 국어생활","J026","국어국문학과","전선","이상신",null,"동영상+실시간",{"$f":"VLOOKUP(B9:B49,[1]Sheet1!$D$2:$H$62,5,0)","v":"수B(다107) 금B(다107)"}]
["현대문학사","J025","국어국문학과","전선","문혜원",null,"동영상+실시간",{"$f":"VLOOKUP(B10:B50,[1]Sheet1!$D$2:$H$62,5,0)","v":"월B() 목B()"}]
["현대소설론","J024","국어국문학과","전선","장두영",null,"동영상+실시간",{"$f":"VLOOKUP(B11:B51,[1]Sheet1!$D$2:$H$62,5,0)","v":"화D(다115) 목C(다115)"}]
["디지털 아트와 미학","J084","문화콘텐츠학과","전선","박재연",null,"동영상+실시간",{"$f":"VLOOKUP(B12:B56,[1]Sheet1!$D$2:$H$62,5,0)","v":"수B(연암612) 금B(연암612)"}]
["문화고전강독","J082","문화콘텐츠학과","전필","김민규",null,"실시간100%",{"$f":"VLOOKUP(B13:B57,[1]Sheet1!$D$2:$H$62,5,0)","v":"화C(연암612) 금C(연암612)"}]
["문화고전강독","J083","문화콘텐츠학과","전필","김민규",null,"실시간100%",{"$f":"VLOOKUP(B14:B58,[1]Sheet1!$D$2:$H$62,5,0)","v":"화E(연암612) 금E(연암612)"}]
["문화콘텐츠기획실습(캡스톤디자인)","J081","문화콘텐츠학과","전필","김경도",null,"대면",{"$f":"VLOOKUP(B15:B59,[1]Sheet1!$D$2:$H$62,5,0)","v":"화2(다205-B) 화3(다205-B) 화4(다205-B)"}]
["스타론","J078","문화콘텐츠학과","전선","신규(미정)",null,"미정",{"$f":"VLOOKUP(B16:B62,[1]Sheet1!$D$2:$H$62,5,0)","v":"화B 목A"}]
["스토리텔링의 이해","J076","문화콘텐츠학과","전필","전윤수",null,"실시간100%",{"$f":"VLOOKUP(B17:B63,[1]Sheet1!$D$2:$H$62,5,0)","v":"월A(연암612) 수A(연암612)"}]
["스토리텔링의 이해","J077","문화콘텐츠학과","전필","전윤수",null,"실시간100%",{"$f":"VLOOKUP(B18:B64,[1]Sheet1!$D$2:$H$62,5,0)","v":"월E(연암612) 수E(연암612)"}]
["전시기획과 운영","J071","문화콘텐츠학과","전선","박재연",null,"동영상+실시간",{"$f":"VLOOKUP(B19:B65,[1]Sheet1!$D$2:$H$62,5,0)","v":"월C(연암612) 수C(연암612)"}]
["콘텐츠 영어 실습","J069","문화콘텐츠학과","전필","신지영",null,"실시간+부분대면",{"$f":"VLOOKUP(B20:B67,[1]Sheet1!$D$2:$H$62,5,0)","v":"금1(다105) 금2(다105) 금3(다105)"}]
["프랑스어 활용 연습(캡스톤디자인)","J042","불어불문학과","전필","김용현",null,"실시간100%",{"$f":"VLOOKUP(B21:B75,[1]Sheet1!$D$2:$H$62,5,0)","v":"월B(다106) 목B(다106)"}]
["프랑코포니 언어학","J040","불어불문학과","전필","박만규",null,"동영상+실시간",{"$f":"VLOOKUP(B22:B77,[1]Sheet1!$D$2:$H$62,5,0)","v":"화D(다106) 목C(다106)"}]
["고고학개론","J067","사학과","전선","심재연",null,"동영상+부분대면",{"$f":"VLOOKUP(B23:B79,[1]Sheet1!$D$2:$H$62,5,0)","v":"화F(다115) 목E(다115)"}]
["동양중세사","J066","사학과","전선","김호",null,"동영상+실시간+부분대면",{"$f":"VLOOKUP(B24:B80,[1]Sheet1!$D$2:$H$62,5,0)","v":"화B(다108) 목A(다108)"}]
["서양중세사","J065","사학과","전선","박용진",null,"동영상+부분대면",{"$f":"VLOOKUP(B25:B81,[1]Sheet1!$D$2:$H$62,5,0)","v":"화D(다108) 목C(다108)"}]
["아메리카사","J064","사학과","전선","박구병",null,"동영상+실시간",{"$f":"VLOOKUP(B26:B82,[1]Sheet1!$D$2:$H$62,5,0)","v":"월D(다105) 목D(다105)"}]
["아시아사 입문","J063","사학과","전선","김호",null,"동영상+실시간+부분대면",{"$f":"VLOOKUP(B27:B83,[1]Sheet1!$D$2:$H$62,5,0)","v":"화D() 목C()"}]
["역사와 인물","J062","사학과","전선","박구병",null,"동영상+실시간",{"$f":"VLOOKUP(B28:B84,[1]Sheet1!$D$2:$H$62,5,0)","v":"월E(다108) 수E(다108)"}]
["역사학입문","J061","사학과","전필","김봉철",null,"동영상+실시간",{"$f":"VLOOKUP(B29:B85,[1]Sheet1!$D$2:$H$62,5,0)","v":"월D(다108) 목D(다108)"}]
["유럽의 전통과 문화유산","J060","사학과","전선","김봉철",null,"동영상+실시간",{"$f":"VLOOKUP(B30:B86,[1]Sheet1!$D$2:$H$62,5,0)","v":"월E(다115) 수E(다115)"}]
["한국중세사","J055","사학과","전선","이상국",null,"동영상+실시간",{"$f":"VLOOKUP(B31:B87,[1]Sheet1!$D$2:$H$62,5,0)","v":"월C(다108) 수C(다108)"}]
["한문사료강독","J054","사학과","전필","이상국",null,"동영상+실시간",{"$f":"VLOOKUP(B32:B88,[1]Sheet1!$D$2:$H$62,5,0)","v":"월A(다108) 수A(다108)"}]
["한중일 국제관계사","J053","사학과","전선","한상준",null,"동영상+실시간",{"$f":"VLOOKUP(B33:B89,[1]Sheet1!$D$2:$H$62,5,0)","v":"수D(다108) 금D(다108)"}]
["근대영문학사","J038","영어영문학과","전선","유선무",null,"동영상+실시간+부분대면",{"$f":"VLOOKUP(B34:B85,[1]Sheet1!$D$2:$H$62,5,0)","v":"월C(다105) 수C(다105)"}]
["문학 전공영어독해","J023","영어영문학과","전선","김미현",null,"동영상+실시간",{"$f":"VLOOKUP(B35:B91,[1]Sheet1!$D$2:$H$62,5,0)","v":"화D(다205-B) 목C(다205-B)"}]
["영문법","J022","영어영문학과","전선","조재형","A","실시간+부분대면",{"$f":"VLOOKUP(B36:B92,[1]Sheet1!$D$2:$H$62,5,0)","v":"월C(다205-B) 수C(다205-B)"}]
["영미문학개론","J015","영어영문학과","전필","정경훈","A","실시간100%",{"$f":"VLOOKUP(B37:B99,[1]Sheet1!$D$2:$H$62,5,0)","v":"월E(다205-B) 수E(다205-B)"}]
["영어 교재연구 및 지도법(캡스톤디자인)","J014","영어영문학과","전선","김현옥",null,"동영상+실시간+부분대면",{"$f":"VLOOKUP(B38:B100,[1]Sheet1!$D$2:$H$62,5,0)","v":"월D(다205-B) 목D(다205-B)"}]
["영어연습","J012","영어영문학과","전선","조재형","A","실시간+부분대면",{"$f":"VLOOKUP(B39:B102,[1]Sheet1!$D$2:$H$62,5,0)","v":"월E(다105) 수E(다105)"}]
["영어통사론","J010","영어영문학과","전선","한호",null,"동영상+실시간",{"$f":"VLOOKUP(B40:B104,[1]Sheet1!$D$2:$H$62,5,0)","v":"화E(다205-A) 금E(다205-A)"}]
["통역연습(캡스톤디자인)","J002","영어영문학과","전선","강지혜",null,"동영상+실시간",{"$f":"VLOOKUP(B41:B106,[1]Sheet1!$D$2:$H$62,5,0)","v":"월D(다205-A) 목D(다205-A)"}]
["통역입문","J001","영어영문학과","전선","강지혜",null,"동영상+실시간",{"$f":"VLOOKUP(B42:B107,[1]Sheet1!$D$2:$H$62,5,0)","v":"월B(다205-A) 목B(다205-A)"}]