{"text_format":"2","workbook":"xlsx","n_sheets":2,"sheets":["청강가능 과목","청강(온라인)"],"not_rendered":{"charts":0,"images":0,"macros":0,"external_links":1,"defined_names":2,"comments":0,"pivot_tables":0},"unopened":[],"bounds":{"document_bytes":16777216,"sheet_cells":100000,"run_cost":"one","rows_first":2000,"rows_last":500,"rows_between":2000,"halvings":0,"cell_chars":16384,"cell_head_chars":4096},"cells_cut":0,"cells_raw":0,"read":"whole","date_system":"1900"}

{"sheet":"청강가능 과목","index":0,"n_rows":70,"n_cols":8,"rows_kept":70,"cut":false,"hidden":false,"merged":[[1,0,1,7]]}
[]
["2025-1학기 개설과목"]
[]
["No.","구분","수강번호","과목명","담당교수명","비고","담당교수 이메일","수업시간 "]
[1,"온라인","Q0075","IT전략기획","이철"]
[2,"오프라인","Q0060","NLP프랙티셔너1","이성엽",null,{"$f":"VLOOKUP(E6,'[1]오프라인 청강가능 과목'!$D$4:$E$42,2,0)","v":"hicoach@ajou.ac.kr"},{"$f":"VLOOKUP(D6,'[1]오프라인 청강가능 과목'!$C$4:$F$42,4,0)","v":"토오전"}]
[3,"오프라인","Q0060","NLP프랙티셔너2","이성엽",null,{"$f":"VLOOKUP(E7,'[1]오프라인 청강가능 과목'!$D$4:$E$42,2,0)","v":"hicoach@ajou.ac.kr"},{"$f":"VLOOKUP(D7,'[1]오프라인 청강가능 과목'!$C$4:$F$42,4,0)","v":"토 오후"}]
[4,"온라인","Q0068","SCM(공급망관리)","장병윤"]
[5,"오프라인","Q0074","경영머신러닝","강민형",null,{"$f":"VLOOKUP(E9,'[1]오프라인 청강가능 과목'!$D$4:$E$42,2,0)","v":"minhkang@ajou.ac.kr"},{"$f":"VLOOKUP(D9,'[1]오프라인 청강가능 과목'!$C$4:$F$42,4,0)","v":"수"}]
[6,"오프라인","Q0008","경영정보시스템","이철",null,{"$f":"VLOOKUP(E10,'[1]오프라인 청강가능 과목'!$D$4:$E$42,2,0)","v":"crhee@ajou.ac.kr"},{"$f":"VLOOKUP(D10,'[1]오프라인 청강가능 과목'!$C$4:$F$42,4,0)","v":"목"}]
[7,"오프라인","Q0008","경영정보시스템","강민철",null,{"$f":"VLOOKUP(E11,'[1]오프라인 청강가능 과목'!$D$4:$E$42,2,0)","v":"mckang@ajou.ac.kr"},{"$f":"VLOOKUP(D11,'[1]오프라인 청강가능 과목'!$C$4:$F$42,4,0)","v":"목"}]
[8,"온라인","Q0010","경영정보시스템","강민철","자동 청강신청"]
[9,"오프라인","Q0021","경영통계","임재익",null,{"$f":"VLOOKUP(E13,'[1]오프라인 청강가능 과목'!$D$4:$E$42,2,0)","v":"limjay@ajou.ac.kr"},{"$f":"VLOOKUP(D13,'[1]오프라인 청강가능 과목'!$C$4:$F$42,4,0)","v":"화"}]
[10,"오프라인","Q0085","경영학원론","이윤근",null,{"$f":"VLOOKUP(E14,'[1]오프라인 청강가능 과목'!$D$4:$E$42,2,0)","v":"yk69@ajou.ac.kr"},{"$f":"VLOOKUP(D14,'[1]오프라인 청강가능 과목'!$C$4:$F$42,4,0)","v":"토 오후"}]
[11,"온라인","Q0020","경제원론","김동근"]
[12,"오프라인","Q0028","고용관계","최영우",null,{"$f":"VLOOKUP(E16,'[1]오프라인 청강가능 과목'!$D$4:$E$42,2,0)","v":"koreacko@hanmail.net"},{"$f":"VLOOKUP(D16,'[1]오프라인 청강가능 과목'!$C$4:$F$42,4,0)","v":"토오전"}]
[13,"온라인","Q0041","관리회계","윤소라"]
[14,"온라인","Q0044","국제경영학","김경호"]
[15,"온라인","Q0043","글로벌문화경영","김기민"]
[16,"오프라인","Q0051","금융론","원동철",null,{"$f":"VLOOKUP(E20,'[1]오프라인 청강가능 과목'!$D$4:$E$42,2,0)","v":"dcwon@ajou.ac.kr"},{"$f":"VLOOKUP(D20,'[1]오프라인 청강가능 과목'!$C$4:$F$42,4,0)","v":"토 오후"}]
[17,"오프라인","Q0042","기술혁신관리","김기민",null,{"$f":"VLOOKUP(E21,'[1]오프라인 청강가능 과목'!$D$4:$E$42,2,0)","v":"kmkim@ajou.ac.kr"},{"$f":"VLOOKUP(D21,'[1]오프라인 청강가능 과목'!$C$4:$F$42,4,0)","v":"목"}]
[18,"오프라인","Q0073","데이터분석프로그래밍","강주영",null,{"$f":"VLOOKUP(E22,'[1]오프라인 청강가능 과목'!$D$4:$E$42,2,0)","v":"jykang@ajou.ac.kr"},{"$f":"VLOOKUP(D22,'[1]오프라인 청강가능 과목'!$C$4:$F$42,4,0)","v":"화"}]
[19,"온라인","Q0072","디지털마케팅","강주영"]
[20,"오프라인","Q0071","디지털컨버전스와기술확산","박민재",null,{"$f":"VLOOKUP(E24,'[1]오프라인 청강가능 과목'!$D$4:$E$42,2,0)","v":"geglove@ajou.ac.kr"},{"$f":"VLOOKUP(D24,'[1]오프라인 청강가능 과목'!$C$4:$F$42,4,0)","v":"토오전"}]
[21,"온라인","Q0027","리더십연구","조영호"]
[22,"오프라인","Q0011","마케팅관리","이승환",null,{"$f":"VLOOKUP(E26,'[1]오프라인 청강가능 과목'!$D$4:$E$42,2,0)","v":"slee33@ajou.ac.kr"},{"$f":"VLOOKUP(D26,'[1]오프라인 청강가능 과목'!$C$4:$F$42,4,0)","v":"토오전"}]
[23,"온라인","Q0012","마케팅관리","이승환","자동 청강신청"]
[24,"온라인","Q0032","마케팅유통전략","이홍재"]
[25,"온라인","Q0031","마케팅커뮤니케이션","권경난"]
[26,"오프라인","Q0030","마켓이노베이션전략(빅테크마케팅)","조재운",null,{"$f":"VLOOKUP(E30,'[1]오프라인 청강가능 과목'!$D$4:$E$42,2,0)","v":"chojwn@ajou.ac.kr"},{"$f":"VLOOKUP(D30,'[1]오프라인 청강가능 과목'!$C$4:$F$42,4,0)","v":"토오전"}]
[27,"오프라인","Q0081","바이오헬스케어경영","정혜진",null,{"$f":"VLOOKUP(E31,'[1]오프라인 청강가능 과목'!$D$4:$E$42,2,0)","v":"shhan203@ajou.ac.kr"},{"$f":"VLOOKUP(D31,'[1]오프라인 청강가능 과목'!$C$4:$F$42,4,0)","v":"수"}]
[28,"오프라인","Q0080","병원전략경영","김형진",null,{"$f":"VLOOKUP(E32,'[1]오프라인 청강가능 과목'!$D$4:$E$42,2,0)","v":"hjinkim1947@naver.com"},{"$f":"VLOOKUP(D32,'[1]오프라인 청강가능 과목'!$C$4:$F$42,4,0)","v":"화"}]
[29,"오프라인","Q0090","비즈니스모델혁신","장병윤",null,{"$f":"VLOOKUP(E33,'[1]오프라인 청강가능 과목'!$D$4:$E$42,2,0)","v":"bychang@ajou.ac.kr"},{"$f":"VLOOKUP(D33,'[1]오프라인 청강가능 과목'!$C$4:$F$42,4,0)","v":"목"}]
[30,"오프라인","Q0061","비즈니스커뮤니케이션","김동기",null,{"$f":"VLOOKUP(E34,'[1]오프라인 청강가능 과목'!$D$4:$E$42,2,0)","v":"kmotive17@naver.com"},{"$f":"VLOOKUP(D34,'[1]오프라인 청강가능 과목'!$C$4:$F$42,4,0)","v":"목"}]
[31,"오프라인","Q0058","비즈니스코칭","김헌수",null,{"$f":"VLOOKUP(E35,'[1]오프라인 청강가능 과목'!$D$4:$E$42,2,0)","v":"khs928@naver.com"},{"$f":"VLOOKUP(D35,'[1]오프라인 청강가능 과목'!$C$4:$F$42,4,0)","v":"목"}]
[32,"오프라인","Q0001","비즈니스프로세스관리","김선교",null,{"$f":"VLOOKUP(E36,'[1]오프라인 청강가능 과목'!$D$4:$E$42,2,0)","v":"sunkyo@ajou.ac.kr"},{"$f":"VLOOKUP(D36,'[1]오프라인 청강가능 과목'!$C$4:$F$42,4,0)","v":"월"}]
[33,"온라인","Q0001","비즈니스프로세스관리","이창환"]
[34,"온라인","Q0067","서비스관리","김선교"]
[35,"오프라인","Q0040","세법","김상일",null,{"$f":"VLOOKUP(E39,'[1]오프라인 청강가능 과목'!$D$4:$E$42,2,0)","v":"sikim@ajou.ac.kr"},{"$f":"VLOOKUP(D39,'[1]오프라인 청강가능 과목'!$C$4:$F$42,4,0)","v":"토오전"}]
[36,"오프라인","Q0029","소비자행동","권경난",null,{"$f":"VLOOKUP(E40,'[1]오프라인 청강가능 과목'!$D$4:$E$42,2,0)","v":"kwonkn@ajou.ac.kr"},{"$f":"VLOOKUP(D40,'[1]오프라인 청강가능 과목'!$C$4:$F$42,4,0)","v":"토 오후"}]
[37,"온라인","Q0019","아주경영특강","이철"]
[38,"온라인","Q0018","연구조사방법론","박민재"]
[39,"오프라인","Q0066","운영전략사례연구","성민제",null,{"$f":"VLOOKUP(E43,'[1]오프라인 청강가능 과목'!$D$4:$E$42,2,0)","v":"sungmj@ajou.ac.kr"},{"$f":"VLOOKUP(D43,'[1]오프라인 청강가능 과목'!$C$4:$F$42,4,0)","v":"수"}]
[40,"온라인","Q0065","의사결정모델","성민제"]
[41,"오프라인","Q0024","인적자원개발","최명원",null,{"$f":"VLOOKUP(E45,'[1]오프라인 청강가능 과목'!$D$4:$E$42,2,0)","v":"mwchoi@ajou.ac.kr"},{"$f":"VLOOKUP(D45,'[1]오프라인 청강가능 과목'!$C$4:$F$42,4,0)","v":"목"}]
[42,"온라인","Q0023","인적자원관리","박호환"]
[43,"오프라인","Q0003","재무관리","김주현",null,{"$f":"VLOOKUP(E47,'[1]오프라인 청강가능 과목'!$D$4:$E$42,2,0)","v":"jhkim0902@ajou.ac.kr"},{"$f":"VLOOKUP(D47,'[1]오프라인 청강가능 과목'!$C$4:$F$42,4,0)","v":"수"}]
[44,"오프라인","Q0003","재무관리","심규철",null,{"$f":"VLOOKUP(E48,'[1]오프라인 청강가능 과목'!$D$4:$E$42,2,0)","v":"gshim@ajou.ac.kr"},{"$f":"VLOOKUP(D48,'[1]오프라인 청강가능 과목'!$C$4:$F$42,4,0)","v":"수"}]
[45,"온라인","Q0003","재무관리","이준엽"]
[46,"오프라인","Q0039","재무제표분석","김병조",null,{"$f":"VLOOKUP(E50,'[1]오프라인 청강가능 과목'!$D$4:$E$42,2,0)","v":"k24337@ajou.ac.kr"},{"$f":"VLOOKUP(D50,'[1]오프라인 청강가능 과목'!$C$4:$F$42,4,0)","v":"화"}]
[47,"오프라인","Q0006","전략경영","김경호",null,{"$f":"VLOOKUP(E51,'[1]오프라인 청강가능 과목'!$D$4:$E$42,2,0)","v":"kyunghokim@ajou.ac.kr"},{"$f":"VLOOKUP(D51,'[1]오프라인 청강가능 과목'!$C$4:$F$42,4,0)","v":"토오전"}]
[48,"온라인","Q0007","전략경영","김경호","자동 청강신청"]
[49,"오프라인","Q0022","조직문화","조영호",null,{"$f":"VLOOKUP(E53,'[1]오프라인 청강가능 과목'!$D$4:$E$42,2,0)","v":"choyho@ajou.ac.kr"},{"$f":"VLOOKUP(D53,'[1]오프라인 청강가능 과목'!$C$4:$F$42,4,0)","v":"수"}]
[50,"오프라인","Q0013","조직행위론","김도영",null,{"$f":"VLOOKUP(E54,'[1]오프라인 청강가능 과목'!$D$4:$E$42,2,0)","v":"kimd@ajou.ac.kr"},{"$f":"VLOOKUP(D54,'[1]오프라인 청강가능 과목'!$C$4:$F$42,4,0)","v":"화"}]
[51,"오프라인","Q0014","조직행위론","백연정",null,{"$f":"VLOOKUP(E55,'[1]오프라인 청강가능 과목'!$D$4:$E$42,2,0)","v":"ypaik@ajou.ac.kr"},{"$f":"VLOOKUP(D55,'[1]오프라인 청강가능 과목'!$C$4:$F$42,4,0)","v":"화"}]
[52,"온라인","Q0015","조직행위론","백연정","자동 청강신청"]
[53,"오프라인","Q0082","창업실습","백종일",null,{"$f":"VLOOKUP(E57,'[1]오프라인 청강가능 과목'!$D$4:$E$42,2,0)","v":"ufolight@nate.com"},{"$f":"VLOOKUP(D57,'[1]오프라인 청강가능 과목'!$C$4:$F$42,4,0)","v":"화"}]
[54,"오프라인","Q0057","코칭기본스킬","황현호",null,{"$f":"VLOOKUP(E58,'[1]오프라인 청강가능 과목'!$D$4:$E$42,2,0)","v":"dreamhhh@naver.com"},{"$f":"VLOOKUP(D58,'[1]오프라인 청강가능 과목'!$C$4:$F$42,4,0)","v":"토오전"}]
[55,"오프라인","Q0048","투자론","이준엽",null,{"$f":"VLOOKUP(E59,'[1]오프라인 청강가능 과목'!$D$4:$E$42,2,0)","v":"junlee@ajou.ac.kr"},{"$f":"VLOOKUP(D59,'[1]오프라인 청강가능 과목'!$C$4:$F$42,4,0)","v":"월"}]
[56,"오프라인","Q0047","핀테크와비즈니스","구형건",null,{"$f":"VLOOKUP(E60,'[1]오프라인 청강가능 과목'!$D$4:$E$42,2,0)","v":"hkoo@ajou.ac.kr"},{"$f":"VLOOKUP(D60,'[1]오프라인 청강가능 과목'!$C$4:$F$42,4,0)","v":"토 오후"}]
[57,"오프라인","Q0054","핵심코칭역량1","남기웅",null,{"$f":"VLOOKUP(E61,'[1]오프라인 청강가능 과목'!$D$4:$E$42,2,0)","v":"coachingn@naver.com"},{"$f":"VLOOKUP(D61,'[1]오프라인 청강가능 과목'!$C$4:$F$42,4,0)","v":"토 오후"}]
[58,"오프라인","Q0064","협상론","박호환",null,{"$f":"VLOOKUP(E62,'[1]오프라인 청강가능 과목'!$D$4:$E$42,2,0)","v":"parkhh@ajou.ac.kr"},{"$f":"VLOOKUP(D62,'[1]오프라인 청강가능 과목'!$C$4:$F$42,4,0)","v":"토 오후"}]
[59,"온라인","Q0038","회계감사","박주성"]
[60,"오프라인","Q0035","회계정보와자본시장","박주성",null,{"$f":"VLOOKUP(E64,'[1]오프라인 청강가능 과목'!$D$4:$E$42,2,0)","v":"kronos@ajou.ac.kr"},{"$f":"VLOOKUP(D64,'[1]오프라인 청강가능 과목'!$C$4:$F$42,4,0)","v":"월"}]
[61,"오프라인","Q0016","회계학원론","윤소라",null,{"$f":"VLOOKUP(E65,'[1]오프라인 청강가능 과목'!$D$4:$E$42,2,0)","v":"yoonsora@ajou.ac.kr"},{"$f":"VLOOKUP(D65,'[1]오프라인 청강가능 과목'!$C$4:$F$42,4,0)","v":"수"}]
[62,"온라인","Q0016","회계학원론","한봉희"]
[]
["평일수업","19:30~22:10"]
["토오전","9:30~12:10"]
["토 오후","13:30~16:10"]

{"sheet":"청강(온라인)","index":1,"n_rows":50,"n_cols":7,"rows_kept":50,"cut":false,"hidden":true,"merged":[[46,1,49,1],[2,3,2,4],[3,1,7,1],[8,1,13,1],[14,1,18,1],[19,1,22,1],[23,1,27,1],[46,2,49,2],[37,2,38,2],[39,2,40,2],[37,1,38,1],[39,1,43,1],[44,1,45,1],[3,2,5,2],[6,2,7,2],[9,2,11,2],[0,1,0,6],[28,1,33,1],[34,1,36,1],[41,2,43,2],[44,2,45,2],[1,2,1,6],[24,2,26,2],[29,2,31,2],[32,2,33,2],[12,2,13,2],[17,2,18,2],[21,2,22,2],[15,2,16,2]]}
[null,"학기별 온라인 개설 과목"]
[null,null,"※주의: 2021-2학기 정규개설 과목만 성적기입 청강 가능(1학기 개설 과목은 단순 청강만 가능)"]
[null,"전공명","정규개설학기","과목명",null,"녹화교수","비고"]
[null,"경영전략","1학기",1,"국제경영학","김영곤","*"]
[null,null,null,2,"글로벌비교경영","김기민","*"]
[null,null,null,3,"사회적책임경영","김세중","*"]
[null,null,"2학기",4,"기술및혁신관리","김기민"]
[null,null,null,5,"전략경영","김영곤"]
[null,"마케팅","1,2학기",1,"마케팅관리","황의록"]
[null,null,"1학기",2,"마케팅유통전략","조재운","*"]
[null,null,null,3,"마케팅전략","나운봉","*"]
[null,null,null,4,"마케팅커뮤니케이션","이미선","*"]
[null,null,"2학기",5,"소비자행동","유창조"]
[null,null,null,6,"마켓이노베이션전략","조재운"]
[null,"인사조직","1,2학기",1,"조직행위론","백연정","관리교수 박호환"]
[null,null,"1학기",2,"리더십연구","조영호","*"]
[null,null,null,3,"인적자원관리","박호환","*"]
[null,null,null,4,"인적자원개발","최명원"]
[null,null,null,5,"조직문화","조영호"]
[null,"재무","1,2학기",1,"재무관리","송영균"]
[null,null,"1학기",2,"위험관리","구형건","*"]
[null,null,"2학기",3,"금융론","김병화"]
[null,null,null,4,"투자론","이주희"]
[null,"회계학","1,2학기",1,"회계학원론","한봉희"]
[null,null,"1학기",2,"관리회계","윤소라","*"]
[null,null,null,3,"세무회계","김광윤","*"]
[null,null,null,4,"회계감사","김한수","*"]
[null,null,null,5,"재무제표분석","김종일"]
[null,"MS/OM","1,2학기",1,"생산운영관리","이창환","관리교수-김승환"]
[null,null,"1학기",2,"SCM(공급망관리)","장병윤","*"]
[null,null,null,3,"경영최적화","김선교","*"]
[null,null,null,4,"의사결정모델","성민제","*"]
[null,null,"2학기",5,"서비스관리","김선교"]
[null,null,null,6,"프로젝트경영","장병윤"]
[null,"IT비즈니스","1,2학기",1,"경영정보시스템","강민철"]
[null,null,null,2,"디지털마케팅","강주영","*"]
[null,null,"2학기",3,"웹환경과비즈니스","이철"]
[null,null,null,2,"프로젝트경영","장병윤"]
[null,null,null,3,"서비스관리","김선교"]
[null,"연구기술  경영","1학기",1,"관리회계","윤소라","*"]
[null,null,null,2,"인적자원관리","박호환","*"]
[null,null,"2학기",3,"기술및혁신관리","김기민"]
[null,null,null,4,"신제품전략","조재운"]
[null,null,null,6,"프로젝트경영","장병윤"]
[null,"비즈니스 \n애널리틱스","1학기",1,"경영최적화","김선교","*"]
[null,null,null,2,"의사결정모델","성민제","*"]
[null,"일반선택","1,2학기",1,"경제원론","김동근"]
[null,null,null,2,"경영통계","임재익"]
[null,null,null,3,"연구조사방법론","손영석"]
[null,null,null,4,"아주경영특강","휴넷","관리교수-장병윤"]